BEGIN:VCALENDAR
VERSION:2.0
PRODID:-//ORSANCO - ECPv6.15.20//NONSGML v1.0//EN
CALSCALE:GREGORIAN
METHOD:PUBLISH
X-WR-CALNAME:ORSANCO
X-ORIGINAL-URL:https://www.orsanco.org
X-WR-CALDESC:Events for ORSANCO
REFRESH-INTERVAL;VALUE=DURATION:PT1H
X-Robots-Tag:noindex
X-PUBLISHED-TTL:PT1H
BEGIN:VTIMEZONE
TZID:UTC
BEGIN:STANDARD
TZOFFSETFROM:+0000
TZOFFSETTO:+0000
TZNAME:UTC
DTSTART:20250101T000000
END:STANDARD
END:VTIMEZONE
BEGIN:VEVENT
DTSTART;TZID=UTC:20260424T080000
DTEND;TZID=UTC:20260424T163000
DTSTAMP:20260423T025501
CREATED:20260326T204159Z
LAST-MODIFIED:20260326T204159Z
UID:16420-1777017600-1777048200@www.orsanco.org
SUMMARY:Life Below the Waterline: Annual Riverway Summit
DESCRIPTION:ORSANCO’s Life Below the Waterline mobile aquarium will again be featured at the Annual Riverway Summit\, where we’ll be showcasing the diversity of aquatic species in the Great Miami River. Join us at the Summit on Friday\, April 24\, in downtown Hamilton\, Ohio. \nThis is the 19th Summit\, bringing together leaders\, organizations\, and communities from across the Great Miami River corridor to share ideas\, forge partnerships\, and envision the future of the river corridor. Whether you’re a municipal leader\, business owner\, community advocate\, or recreation enthusiast\, join for a day of inspiration and collaboration in Hamilton.
URL:https://www.orsanco.org/calendar-event/life-below-the-waterline-annual-riverway-summit/
LOCATION:Fitton Center for Creative Arts\, 101 South Monument Avenue\, Hamilton\, Ohio\, 45011
END:VEVENT
END:VCALENDAR